BEGIN:VCALENDAR
VERSION:2.0
PRODID:-//SVP Kanton Nidwalden //NONSGML Events //EN
CALSCALE:GREGORIAN
X-WR-CALNAME:SVP Kanton Nidwalden
BEGIN:VEVENT
CREATED:20250208T193654Z
UID:21407
DTEND:20251130T000000
DTSTART:20251130T000000
DTSTAMP:20260421T092442Z
LOCATION:Kanton Nidwalden
DESCRIPTION:
SUMMARY:Eidgenössische Abstimmung 30.11.2025
ORGANIZER:
URL;VALUE=URI:https://www.svp-nw.ch/termine/eidgenoessische-abstimmung-2/
TRANSP:OPAQUE
END:VEVENT
END:VCALENDAR
